BEGIN:VCALENDAR
VERSION:2.0
PRODID:-//hacksw/handcal//NONSGML v1.0//EN
CALSCALE:GREGORIAN
BEGIN:VEVENT
DTEND:20240331T180000
UID:69ecc77dce9d3
DTSTAMP:20260425T155405
LOCATION:Boos-Fremery-Straße 62\, Tor 1\, 52525 Heinsberg
DESCRIPTION:Die Ausstellung spannt einen Bogen vom Beginn der Seidenherstellung, die vor mehreren Tausend Jahren in China begann, über die Erfindung und Weiterentwicklung der Kunstseide am Standort Oberbruch bis zur Schließung und dem Rückbau der Produktionsanlagen. Ergänzend zur Ausstellung wird ein Stummfilm aus dem Bundesfilmarchiv, mit Untertiteln, aus den 1920er Jahren gezeigt. Dieser wurde in Oberbruch gedreht und beschäftigt sich mit der Herstellung von Viskoseseide.\n
URL;VALUE=URI:
SUMMARY:Faszination Viskose
DTSTART:20231119T080000
END:VEVENT
END:VCALENDAR