BEGIN:VCALENDAR
VERSION:2.0
PRODID:-//hacksw/handcal//NONSGML v1.0//EN
CALSCALE:GREGORIAN
BEGIN:VEVENT
DTEND:20230611T180000
UID:69e8467260e8d
DTSTAMP:20260422T055426
LOCATION:Museumsplatz 1\, 45128 Essen
DESCRIPTION:
URL;VALUE=URI:
SUMMARY:STOPOVER 2023. M.A. Photography Studies 
DTSTART:20230120T080000
END:VEVENT
END:VCALENDAR