BEGIN:VCALENDAR
VERSION:2.0
PRODID:-//hacksw/handcal//NONSGML v1.0//EN
CALSCALE:GREGORIAN
BEGIN:VEVENT
DTEND:20230423T180000
UID:69eb47414082c
DTSTAMP:20260424T123441
LOCATION:Hoeschplatz 1\, 52349 Düren
DESCRIPTION:Mit "Irmel Kamp. Architekturbilder" zeigt das Leopold-Hoesch-Museum eine groß angelegte Werkschau der Fotografin Irmel Kamp, die deren künstlerisches Schaffen erstmals umfassend würdigt. Zu sehen ist eine Auswahl an Arbeiten aus den vier großen - (1987- -2006). Die Ausstellung ist eine Kooperation mit dem Museum für Photographie Braunschweig und wird begleitet von einem Katalog (dt./engl.), erschienen im Verlag der Buchhandlung Walther und Franz König.\n\nIrmel Kamp (*1937 in Düsseldorf, lebt und arbeitet in Aachen und Stäfa (CH)) widmet sich in ihrem künstlerischen Werk Phänomenen regionaler Architekturen. Ausgehend von Begegnungen mit spezifischen Erscheinungsformen insbesondere der europäischen Architekturmoderne schafft sie charakteristische Werkgruppen. Dabei geht sie grundsätzlich seriell vor, verwendet ausschließlich Schwarzweißfotografie und wählt stets eine Position, die als öffentlicher Standort den Umraum miteinbezieht, zugleich aber die Prägnanz der architektonischen Form markant zum Ausdruck bringt. 
URL;VALUE=URI:
SUMMARY:Irmel Kamp. Architekturbilder
DTSTART:20230129T080000
END:VEVENT
END:VCALENDAR