BEGIN:VCALENDAR
VERSION:2.0
PRODID:-//hacksw/handcal//NONSGML v1.0//EN
CALSCALE:GREGORIAN
BEGIN:VEVENT
DTEND:20230226T180000
UID:69e9c6c94fb2e
DTSTAMP:20260423T091417
LOCATION:Im Krausfeld 10\, 53111 Bonn
DESCRIPTION:Kunstprojekt von Petra Georg-Achenbach
URL;VALUE=URI:
SUMMARY:Jeder Mensch ist eine Perle
DTSTART:20230115T080000
END:VEVENT
END:VCALENDAR