BEGIN:VCALENDAR
VERSION:2.0
PRODID:-//hacksw/handcal//NONSGML v1.0//EN
CALSCALE:GREGORIAN
BEGIN:VEVENT
DTEND:20230604T180000
UID:69e76926e9a0b
DTSTAMP:20260421T141014
LOCATION:Antoniestr. 32 - 34\, 46119 Oberhausen
DESCRIPTION:Die werksfotografische Abteilung der Gutehoffnungshütte (GHH) in Oberhausen hat unzählige Aufnahmen der unterschiedlichen Bereiche des einst größten deutschen Stahl- und Maschinenbaukonzerns gemacht. Ob LKW und Feuerwehrwagen, ob Schiffe und Lastkähne, ob Zeppelinhallen und Seilbahnen oder die Fahrräder, mit denen die Arbeiter zum Betrieb kamen - die Ausstellung „Zu Land, zu Wasser und in der Luft – Mobilität bei der GHH“ gibt einen Einblick in diese „bewegte Vergangenheit“.
URL;VALUE=URI:
SUMMARY:Zu Land\, zu Wasser und in der Luft - Mobilität bei der GHH
DTSTART:20220624T080000
END:VEVENT
END:VCALENDAR